BEGIN:VCALENDAR
VERSION:2.0
PRODID:-//wp-events-plugin.com//7.2.3.1//EN
BEGIN:VEVENT
UID:340@tapahtumat.thelightofthenorth.com
DTSTART:20260529T100000Z
DTEND:20260531T110000Z
DTSTAMP:20260326T092736Z
URL:https://tapahtumat.thelightofthenorth.com/tapahtumat/29-5-31-5-tapahtu
 ma-pirttikylassa/
SUMMARY:29.5.-31.5. tapahtuma Pirttikylässä
DESCRIPTION:Toukokuun viimeisällä viikonlopulla luvassa koko viikonlopun 
 tapahtuma. Lisätietoja tulossa myöhemmin.
ATTACH;FMTTYPE=image/jpeg:https://tapahtumat.thelightofthenorth.com/wp-con
 tent/uploads/2026/03/heijastus2.jpg
CATEGORIES:tapahtuma
END:VEVENT
END:VCALENDAR