BEGIN:VCALENDAR
VERSION:2.0
PRODID:-//wp-events-plugin.com//7.2.3.1//EN
BEGIN:VEVENT
UID:339@tapahtumat.thelightofthenorth.com
DTSTART:20260426T070000Z
DTEND:20260426T140000Z
DTSTAMP:20260325T110326Z
URL:https://tapahtumat.thelightofthenorth.com/tapahtumat/26-4-tapahtuma-la
 hdessa/
SUMMARY:26.4. tapahtuma Lahdessa
DESCRIPTION:Tervetuloa viettämään iloinen päivä yhdessä 26.4. Lahteen
  klo 10 alkaen! Tähän tapahtumaan myös lapset ovat erityisesti tervetul
 leita.\n\nPäivän aikana tutustutaan hortoiluun eli villivihanneksiin sek
 ä valmistetaan niistä maistiaisia. Johannes Poti pitää luennon biodyna
 amisesta viljelystä sekä Sampo Lämsä kosmoskatsauksen. Tero ja Sanna k
 ertovat Karhuvaaran hankkeestaan. Lisäksi luvassa on Antti Aallon rentout
 tava äänimatka sekä yhteisrummuttelua. Lapsille ja lastenmielisille on 
 mukavia leikkejä ulkona.\n\nTommi Wessman on kahvien kera paikalla sekä 
 Sanna ja Tero rohtojen ja tinktuuroiden kanssa. Antti Aallolla on myynniss
 ä koshi-kelloja. Mahdollisesti myös "Pähkinäpappa" on tulossa kertomaa
 n pähkinäpensaista ja puista\, hänellä on muutamia taimia myös mukana
 . Tapio Salonen tekee tapahtumassa kvanttihoitoja. Katja Jousala myy itse 
 tekemiään suolaisia ja makeita herkkuja.\n\nKaikki muutokset ovat mahdol
 lisia :D\n\nRuokailu\nPotin Puurobaari tarjoaa herkullisia luomupuuroja (m
 ustakaura\, ruis\, ohra) erilaisilla höysteillä hintaan 6 €. Puuron ke
 ra on mahdollista ottaa mm. tilamaitoa\, voita\, marjakeittoa tai kuusenke
 rkkäsiirappia.\nTommilta on mahdollista ostaa kahvia sekä Katjalta suola
 isia ja makeita leipomuksia.\nIltapäivällä on omien eväiden grillausma
 hdollisuus nuotiolla.\n\nTapahtumapaikka\nTapahtumapaikkana toimii Luhtaan
 pirtti (vanha kyläkoulu). Osoite on Kurssikeskuksentie 17\, 15560 Nastola
 .\n\nOsallistumismaksu\nOsallistumismaksu 20 €. Maksu paikanpäällä k
 äteisellä. Jos joudut perumaan tulosi\, on peruutusmaksu 10 € (varauks
 en voi siirtää myös toiselle henkilölle).\n\nTuotemyynti ja hoidot\nTa
 pahtumaan voi tulla myymään tuotteita. Hoitojen osalta voidaan selvittä
 ä tilamahdollisuuksia. Ilmoittautumiset ja tiedustelut: perala.anu@gmail.
 com\n\nIlmoittautumiset 20.4. mennessä\nIlmoittautuneet saavat erikseen i
 nfokirjeen lähempänä tapahtumaa\, jossa on lisätietoja mm. ohjelma-aik
 ataulusta\, kimppakyydeistä ja ruokailusta. Linkki ilmoittautumiseen: htt
 ps://forms.gle/Yq8HFYpiFKtBWfpRA
ATTACH;FMTTYPE=image/jpeg:https://tapahtumat.thelightofthenorth.com/wp-con
 tent/uploads/2026/03/IMG_2517-2048x1536-4.jpg
CATEGORIES:tapahtuma
END:VEVENT
END:VCALENDAR